BEGIN:VCALENDAR
VERSION:2.0
PRODID:icalendar-ruby
CALSCALE:GREGORIAN
METHOD:PUBLISH
BEGIN:VEVENT
DTSTAMP:20260421T083735Z
UID:538-152628@salade.tithelysetup5.com
DTSTART:20260415T020000Z
DTEND:20260415T030000Z
CLASS:PUBLIC
CREATED:20260413T003526
DESCRIPTION:¿Por Qué Oramos Sobre Esto?\nPorque hay una guerra silenciosa
  por la mente y el corazón de esta generación. Muchos jóvenes caminan c
 on una sonrisa rota\, cargando pensamientos de muerte y desesperanza. Oram
 os para que el Espíritu Santo irrumpa en medio de la oscuridad con espera
 nza\, sanidad y propósito eterno. Este clamor es por vidas rescatadas ant
 es de rendirse\, por una generación que elija la vida y descubra su valor
  en el corazón del Padre.\n \nJovenes Batallando con Suicidio\nNos ponem
 os en la brecha para aquellos que luchan con pensamientos suicidas o inclu
 so han intentado suicidarse. Oramos para que vean el valor de su vida. Con
 suélalos y ayúdalos a recibir tu amor. Sana sus mentes y corazones. \nJ
 eremías 29:11\nPorque yo conozco los planes que tengo para ustedes —afi
 rma el Señor—\, planes de bienestar y no de calamidad\, a fin de darles
  un futuro y una esperanza. \nSalmos 34:17-18\nLos justos claman\, el Se
 ñor los oye y los libra de todas sus angustias. El Señor está cerca de 
 los quebrantados de corazón\, y salva a los de espíritu abatido.\nRomano
 s 15:13\nQue el Dios de la esperanza los llene de toda alegría y paz a us
 tedes que creen en él\, para que rebosen de esperanza por el poder del Es
 píritu Santo.\n \n \nWhy Do We Pray for This?\nBecause there is a silen
 t war for the minds and hearts of this generation. Many young people walk 
 with a broken smile\, carrying thoughts of death and despair. We pray for 
 the Holy Spirit to break in with hope\, healing\, and eternal purpose. Thi
 s cry is for lives rescued before giving up—for a generation that choose
 s life and finds their worth in the Father’s heart.\n \nYouth Battling 
 with Suicide\nWe stand in the gap for those who struggle with suicidal tho
 ughts or have even attempted suicide. We pray that they will see the value
  in their life. Comfort them and help them receive your love. Heal their m
 inds and hearts.\nJeremiah 29:11\n'For I know the plans I have for you\,
 ” declares the Lord \, “plans to prosper you and not to harm you\, pla
 ns to give you hope and a future. '\nPsalms 34:17-18\n'The righteous cry o
 ut\, and the Lord hears them\; he delivers them from all their troubles. T
 he Lord is close to the brokenhearted and saves those who are crushed in s
 pirit. '\nRomans 15:13\n'May the God of hope fill you with all joy and pea
 ce as you trust in him\, so that you may overflow with hope by the power o
 f the Holy Spirit. '
LAST-MODIFIED:20260413T003526
LOCATION:1031 San Leandro Blvd. San Leandro\, CA 94577
SUMMARY:Jovenes Batallando con Suicidio
URL;VALUE=URI:https://www.saladeoracion.com/events/jovenes-batallando-con-s
 uicidio--538/2026-04-14
END:VEVENT
END:VCALENDAR
